BEGIN:VCALENDAR
VERSION:2.0
PRODID:-//Royal Ramblers Rugby Club - ECPv6.15.14//NONSGML v1.0//EN
CALSCALE:GREGORIAN
METHOD:PUBLISH
X-WR-CALNAME:Royal Ramblers Rugby Club
X-ORIGINAL-URL:https://royalramblerrugby.com
X-WR-CALDESC:Events for Royal Ramblers Rugby Club
REFRESH-INTERVAL;VALUE=DURATION:PT1H
X-Robots-Tag:noindex
X-PUBLISHED-TTL:PT1H
BEGIN:VTIMEZONE
TZID:America/Chicago
BEGIN:DAYLIGHT
TZOFFSETFROM:-0600
TZOFFSETTO:-0500
TZNAME:CDT
DTSTART:20250309T080000
END:DAYLIGHT
BEGIN:STANDARD
TZOFFSETFROM:-0500
TZOFFSETTO:-0600
TZNAME:CST
DTSTART:20251102T070000
END:STANDARD
BEGIN:DAYLIGHT
TZOFFSETFROM:-0600
TZOFFSETTO:-0500
TZNAME:CDT
DTSTART:20260308T080000
END:DAYLIGHT
BEGIN:STANDARD
TZOFFSETFROM:-0500
TZOFFSETTO:-0600
TZNAME:CST
DTSTART:20261101T070000
END:STANDARD
BEGIN:DAYLIGHT
TZOFFSETFROM:-0600
TZOFFSETTO:-0500
TZNAME:CDT
DTSTART:20270314T080000
END:DAYLIGHT
BEGIN:STANDARD
TZOFFSETFROM:-0500
TZOFFSETTO:-0600
TZNAME:CST
DTSTART:20271107T070000
END:STANDARD
END:VTIMEZONE
BEGIN:VEVENT
DTSTART;TZID=America/Chicago:20260326T180000
DTEND;TZID=America/Chicago:20260326T200000
DTSTAMP:20260422T201156
CREATED:20251110T090129Z
LAST-MODIFIED:20260323T141041Z
UID:10001116-1774548000-1774555200@royalramblerrugby.com
SUMMARY:Royal Rambler Rugby Club - Royal Ramblers 15's Practice
DESCRIPTION:Location: Woodson Park\n Spring outdoor rugby practice.\nDynamic warmup starts promptly at 6 so be there early if you want to play touch!  (Arrival Time:  5:40 PM (CDT))
URL:https://royalramblerrugby.com/event/royal-rambler-rugby-club-royal-ramblers-15s-practice-38/
LOCATION:4301 Calvert Ave\, 6001 St Louis Ct\, Saint Louis\, MO\, United States
CATEGORIES:Royal Rambler Events
GEO:38.694471;-90.271456
X-APPLE-STRUCTURED-LOCATION;VALUE=URI;X-ADDRESS=4301 Calvert Ave 6001 St Louis Ct Saint Louis MO United States;X-APPLE-RADIUS=500;X-TITLE=6001 St Louis Ct:geo:-90.271456,38.694471
END:VEVENT
BEGIN:VEVENT
DTSTART;TZID=America/Chicago:20260326T174500
DTEND;TZID=America/Chicago:20260326T200000
DTSTAMP:20260422T201156
CREATED:20251201T100112Z
LAST-MODIFIED:20260119T113550Z
UID:10001152-1774547100-1774555200@royalramblerrugby.com
SUMMARY:Royal Rambler Rugby Club - Backup Indoor Practice
DESCRIPTION:Location: Duchesne High School Gym\n Winter Training to get our bodies into shape for Division 2 spring season.\n5:45-6:00: Stretch/Dynamic Warmup on Mezzanine Turf\n6:00-7:00: Rugby training on Gym Floor\n7:00-8:00: Weight training in Weight Room\nBACKUP FOR POOR WEATHER/FIELD CONDITIONS  (Arrival Time:  5:30 PM (Central Time (US & Canada)))
URL:https://royalramblerrugby.com/event/royal-rambler-rugby-club-backup-indoor-practice-12/
LOCATION:2550 Elm St\, 201 St Charles Dr\, Saint Charles\, MO\, United States
CATEGORIES:Royal Rambler Events
GEO:38.862739;-90.528759
X-APPLE-STRUCTURED-LOCATION;VALUE=URI;X-ADDRESS=2550 Elm St 201 St Charles Dr Saint Charles MO United States;X-APPLE-RADIUS=500;X-TITLE=201 St Charles Dr:geo:-90.528759,38.862739
END:VEVENT
BEGIN:VEVENT
DTSTART;TZID=America/Chicago:20260324T180000
DTEND;TZID=America/Chicago:20260324T200000
DTSTAMP:20260422T201156
CREATED:20251110T090129Z
LAST-MODIFIED:20260323T141040Z
UID:10001115-1774375200-1774382400@royalramblerrugby.com
SUMMARY:Royal Rambler Rugby Club - Royal Ramblers 15's Practice
DESCRIPTION:Location: Woodson Park\n Spring outdoor rugby practice.\nDynamic warmup starts promptly at 6 so be there early if you want to play touch!  (Arrival Time:  5:40 PM (CDT))
URL:https://royalramblerrugby.com/event/royal-rambler-rugby-club-royal-ramblers-15s-practice-37/
LOCATION:4301 Calvert Ave\, 6001 St Louis Ct\, Saint Louis\, MO\, United States
CATEGORIES:Royal Rambler Events
GEO:38.694471;-90.271456
X-APPLE-STRUCTURED-LOCATION;VALUE=URI;X-ADDRESS=4301 Calvert Ave 6001 St Louis Ct Saint Louis MO United States;X-APPLE-RADIUS=500;X-TITLE=6001 St Louis Ct:geo:-90.271456,38.694471
END:VEVENT
BEGIN:VEVENT
DTSTART;TZID=America/Chicago:20260324T174500
DTEND;TZID=America/Chicago:20260324T200000
DTSTAMP:20260422T201156
CREATED:20251201T100111Z
LAST-MODIFIED:20260119T113549Z
UID:10001151-1774374300-1774382400@royalramblerrugby.com
SUMMARY:Royal Rambler Rugby Club - Backup Indoor Practice
DESCRIPTION:Location: Duchesne High School Gym\n Winter Training to get our bodies into shape for Division 2 spring season.\n5:45-6:00: Stretch/Dynamic Warmup on Mezzanine Turf\n6:00-7:00: Rugby training on Gym Floor\n7:00-8:00: Weight training in Weight Room\nBACKUP FOR POOR WEATHER/FIELD CONDITIONS  (Arrival Time:  5:30 PM (Central Time (US & Canada)))
URL:https://royalramblerrugby.com/event/royal-rambler-rugby-club-backup-indoor-practice-11/
LOCATION:2550 Elm St\, 201 St Charles Dr\, Saint Charles\, MO\, United States
CATEGORIES:Royal Rambler Events
GEO:38.862739;-90.528759
X-APPLE-STRUCTURED-LOCATION;VALUE=URI;X-ADDRESS=2550 Elm St 201 St Charles Dr Saint Charles MO United States;X-APPLE-RADIUS=500;X-TITLE=201 St Charles Dr:geo:-90.528759,38.862739
END:VEVENT
BEGIN:VEVENT
DTSTART;TZID=America/Chicago:20260321T130000
DTEND;TZID=America/Chicago:20260321T150000
DTSTAMP:20260422T201156
CREATED:20250805T211116Z
LAST-MODIFIED:20260318T233018Z
UID:10001060-1774098000-1774105200@royalramblerrugby.com
SUMMARY:Royal Rambler Rugby Club MARFU D2 vs Omaha Goats
DESCRIPTION:Location: St Charles McNair Park\n   (Arrival Time: 12:00 PM (Central Time (US & Canada)))
URL:https://royalramblerrugby.com/event/royal-rambler-rugby-club-marfu-d2-vs-omaha-goats/
LOCATION:3200 Droste Rd\, 201 St Charles Dr\, Saint Charles\, MO\, United States
CATEGORIES:Royal Rambler Events,Royal Rambler Matches
GEO:38.862739;-90.528759
X-APPLE-STRUCTURED-LOCATION;VALUE=URI;X-ADDRESS=3200 Droste Rd 201 St Charles Dr Saint Charles MO United States;X-APPLE-RADIUS=500;X-TITLE=201 St Charles Dr:geo:-90.528759,38.862739
END:VEVENT
BEGIN:VEVENT
DTSTART;TZID=America/Chicago:20260319T180000
DTEND;TZID=America/Chicago:20260319T200000
DTSTAMP:20260422T201156
CREATED:20251110T090128Z
LAST-MODIFIED:20260316T134537Z
UID:10001114-1773943200-1773950400@royalramblerrugby.com
SUMMARY:Royal Rambler Rugby Club - Royal Ramblers 15's Practice
DESCRIPTION:Location: Woodson Park\n Spring outdoor rugby practice.\nDynamic warmup starts promptly at 6 so be there early if you want to play touch!  (Arrival Time:  5:40 PM (CDT))
URL:https://royalramblerrugby.com/event/royal-rambler-rugby-club-royal-ramblers-15s-practice-36/
LOCATION:4301 Calvert Ave\, 6001 St Louis Ct\, Saint Louis\, MO\, United States
CATEGORIES:Royal Rambler Events
GEO:38.694471;-90.271456
X-APPLE-STRUCTURED-LOCATION;VALUE=URI;X-ADDRESS=4301 Calvert Ave 6001 St Louis Ct Saint Louis MO United States;X-APPLE-RADIUS=500;X-TITLE=6001 St Louis Ct:geo:-90.271456,38.694471
END:VEVENT
BEGIN:VEVENT
DTSTART;TZID=America/Chicago:20260319T174500
DTEND;TZID=America/Chicago:20260319T200000
DTSTAMP:20260422T201156
CREATED:20251201T100057Z
LAST-MODIFIED:20260119T113547Z
UID:10001150-1773942300-1773950400@royalramblerrugby.com
SUMMARY:Royal Rambler Rugby Club - Backup Indoor Practice
DESCRIPTION:Location: Duchesne High School Gym\n Winter Training to get our bodies into shape for Division 2 spring season.\n5:45-6:00: Stretch/Dynamic Warmup on Mezzanine Turf\n6:00-7:00: Rugby training on Gym Floor\n7:00-8:00: Weight training in Weight Room\nBACKUP FOR POOR WEATHER/FIELD CONDITIONS  (Arrival Time:  5:30 PM (Central Time (US & Canada)))
URL:https://royalramblerrugby.com/event/royal-rambler-rugby-club-backup-indoor-practice-10/
LOCATION:2550 Elm St\, 201 St Charles Dr\, Saint Charles\, MO\, United States
CATEGORIES:Royal Rambler Events
GEO:38.862739;-90.528759
X-APPLE-STRUCTURED-LOCATION;VALUE=URI;X-ADDRESS=2550 Elm St 201 St Charles Dr Saint Charles MO United States;X-APPLE-RADIUS=500;X-TITLE=201 St Charles Dr:geo:-90.528759,38.862739
END:VEVENT
BEGIN:VEVENT
DTSTART;TZID=America/Chicago:20260317T180000
DTEND;TZID=America/Chicago:20260317T200000
DTSTAMP:20260422T201156
CREATED:20251110T090127Z
LAST-MODIFIED:20260316T134537Z
UID:10001113-1773770400-1773777600@royalramblerrugby.com
SUMMARY:Royal Rambler Rugby Club - Royal Ramblers 15's Practice
DESCRIPTION:Location: Woodson Park\n Spring outdoor rugby practice.\nDynamic warmup starts promptly at 6 so be there early if you want to play touch!  (Arrival Time:  5:40 PM (CDT))
URL:https://royalramblerrugby.com/event/royal-rambler-rugby-club-royal-ramblers-15s-practice-35/
LOCATION:4301 Calvert Ave\, 6001 St Louis Ct\, Saint Louis\, MO\, United States
CATEGORIES:Royal Rambler Events
GEO:38.694471;-90.271456
X-APPLE-STRUCTURED-LOCATION;VALUE=URI;X-ADDRESS=4301 Calvert Ave 6001 St Louis Ct Saint Louis MO United States;X-APPLE-RADIUS=500;X-TITLE=6001 St Louis Ct:geo:-90.271456,38.694471
END:VEVENT
BEGIN:VEVENT
DTSTART;TZID=America/Chicago:20260317T174500
DTEND;TZID=America/Chicago:20260317T200000
DTSTAMP:20260422T201156
CREATED:20251201T100057Z
LAST-MODIFIED:20260119T113546Z
UID:10001149-1773769500-1773777600@royalramblerrugby.com
SUMMARY:Royal Rambler Rugby Club - Backup Indoor Practice
DESCRIPTION:Location: Duchesne High School Gym\n Winter Training to get our bodies into shape for Division 2 spring season.\n5:45-6:00: Stretch/Dynamic Warmup on Mezzanine Turf\n6:00-7:00: Rugby training on Gym Floor\n7:00-8:00: Weight training in Weight Room\nBACKUP FOR POOR WEATHER/FIELD CONDITIONS  (Arrival Time:  5:30 PM (Central Time (US & Canada)))
URL:https://royalramblerrugby.com/event/royal-rambler-rugby-club-backup-indoor-practice-9/
LOCATION:2550 Elm St\, 201 St Charles Dr\, Saint Charles\, MO\, United States
CATEGORIES:Royal Rambler Events
GEO:38.862739;-90.528759
X-APPLE-STRUCTURED-LOCATION;VALUE=URI;X-ADDRESS=2550 Elm St 201 St Charles Dr Saint Charles MO United States;X-APPLE-RADIUS=500;X-TITLE=201 St Charles Dr:geo:-90.528759,38.862739
END:VEVENT
BEGIN:VEVENT
DTSTART;TZID=America/Chicago:20260314T130000
DTEND;TZID=America/Chicago:20260314T150000
DTSTAMP:20260422T201156
CREATED:20260103T153052Z
LAST-MODIFIED:20260313T221524Z
UID:10001162-1773493200-1773500400@royalramblerrugby.com
SUMMARY:Royal Rambler Rugby Club 1st XV Friendly at St Louis Bombers D2
DESCRIPTION:Location: Emerson Central Fields\, Forest Park\n   (Arrival Time: 12:00 PM (CDT))
URL:https://royalramblerrugby.com/event/royal-rambler-rugby-club-2nd-xv-friendly-vs-metro-east-mercenaries/
LOCATION:Forest Park\, 6001 St Louis Ct\, Saint Louis\, MO\, United States
CATEGORIES:Royal Rambler Events,Royal Rambler Matches
GEO:38.694471;-90.271456
X-APPLE-STRUCTURED-LOCATION;VALUE=URI;X-ADDRESS=Forest Park 6001 St Louis Ct Saint Louis MO United States;X-APPLE-RADIUS=500;X-TITLE=6001 St Louis Ct:geo:-90.271456,38.694471
END:VEVENT
BEGIN:VEVENT
DTSTART;TZID=America/Chicago:20260312T180000
DTEND;TZID=America/Chicago:20260312T200000
DTSTAMP:20260422T201156
CREATED:20251110T090127Z
LAST-MODIFIED:20260309T133527Z
UID:10001112-1773338400-1773345600@royalramblerrugby.com
SUMMARY:Royal Rambler Rugby Club - Royal Ramblers 15's Practice
DESCRIPTION:Location: Woodson Park\n Spring outdoor rugby practice.\nDynamic warmup starts promptly at 6 so be there early if you want to play touch!  (Arrival Time:  5:45 PM (CDT))
URL:https://royalramblerrugby.com/event/royal-rambler-rugby-club-royal-ramblers-15s-practice-34/
LOCATION:4301 Calvert Ave\, 6001 St Louis Ct\, Saint Louis\, MO\, United States
CATEGORIES:Royal Rambler Events
GEO:38.694471;-90.271456
X-APPLE-STRUCTURED-LOCATION;VALUE=URI;X-ADDRESS=4301 Calvert Ave 6001 St Louis Ct Saint Louis MO United States;X-APPLE-RADIUS=500;X-TITLE=6001 St Louis Ct:geo:-90.271456,38.694471
END:VEVENT
BEGIN:VEVENT
DTSTART;TZID=America/Chicago:20260312T174500
DTEND;TZID=America/Chicago:20260312T200000
DTSTAMP:20260422T201156
CREATED:20251201T100055Z
LAST-MODIFIED:20260119T113544Z
UID:10001148-1773337500-1773345600@royalramblerrugby.com
SUMMARY:Royal Rambler Rugby Club - Backup Indoor Practice
DESCRIPTION:Location: Duchesne High School Gym\n Winter Training to get our bodies into shape for Division 2 spring season.\n5:45-6:00: Stretch/Dynamic Warmup on Mezzanine Turf\n6:00-7:00: Rugby training on Gym Floor\n7:00-8:00: Weight training in Weight Room\nBACKUP FOR POOR WEATHER/FIELD CONDITIONS  (Arrival Time:  5:30 PM (Central Time (US & Canada)))
URL:https://royalramblerrugby.com/event/royal-rambler-rugby-club-backup-indoor-practice-8/
LOCATION:2550 Elm St\, 201 St Charles Dr\, Saint Charles\, MO\, United States
CATEGORIES:Royal Rambler Events
GEO:38.862739;-90.528759
X-APPLE-STRUCTURED-LOCATION;VALUE=URI;X-ADDRESS=2550 Elm St 201 St Charles Dr Saint Charles MO United States;X-APPLE-RADIUS=500;X-TITLE=201 St Charles Dr:geo:-90.528759,38.862739
END:VEVENT
BEGIN:VEVENT
DTSTART;TZID=America/Chicago:20260310T180000
DTEND;TZID=America/Chicago:20260310T200000
DTSTAMP:20260422T201156
CREATED:20251110T090126Z
LAST-MODIFIED:20260309T133527Z
UID:10001111-1773165600-1773172800@royalramblerrugby.com
SUMMARY:Royal Rambler Rugby Club - Royal Ramblers 15's Practice
DESCRIPTION:Location: Woodson Park\n Spring outdoor rugby practice.\nDynamic warmup starts promptly at 6 so be there early if you want to play touch!  (Arrival Time:  5:40 PM (CDT))
URL:https://royalramblerrugby.com/event/royal-rambler-rugby-club-royal-ramblers-15s-practice-33/
LOCATION:4301 Calvert Ave\, 6001 St Louis Ct\, Saint Louis\, MO\, United States
CATEGORIES:Royal Rambler Events
GEO:38.694471;-90.271456
X-APPLE-STRUCTURED-LOCATION;VALUE=URI;X-ADDRESS=4301 Calvert Ave 6001 St Louis Ct Saint Louis MO United States;X-APPLE-RADIUS=500;X-TITLE=6001 St Louis Ct:geo:-90.271456,38.694471
END:VEVENT
BEGIN:VEVENT
DTSTART;TZID=America/Chicago:20260310T174500
DTEND;TZID=America/Chicago:20260310T200000
DTSTAMP:20260422T201156
CREATED:20251201T100055Z
LAST-MODIFIED:20260119T113543Z
UID:10001147-1773164700-1773172800@royalramblerrugby.com
SUMMARY:Royal Rambler Rugby Club - Backup Indoor Practice
DESCRIPTION:Location: Duchesne High School Gym\n Winter Training to get our bodies into shape for Division 2 spring season.\n5:45-6:00: Stretch/Dynamic Warmup on Mezzanine Turf\n6:00-7:00: Rugby training on Gym Floor\n7:00-8:00: Weight training in Weight Room\nBACKUP FOR POOR WEATHER/FIELD CONDITIONS  (Arrival Time:  5:30 PM (Central Time (US & Canada)))
URL:https://royalramblerrugby.com/event/royal-rambler-rugby-club-backup-indoor-practice-7/
LOCATION:2550 Elm St\, 201 St Charles Dr\, Saint Charles\, MO\, United States
CATEGORIES:Royal Rambler Events
GEO:38.862739;-90.528759
X-APPLE-STRUCTURED-LOCATION;VALUE=URI;X-ADDRESS=2550 Elm St 201 St Charles Dr Saint Charles MO United States;X-APPLE-RADIUS=500;X-TITLE=201 St Charles Dr:geo:-90.528759,38.862739
END:VEVENT
BEGIN:VEVENT
DTSTART;TZID=America/Chicago:20260307T000000
DTEND;TZID=America/Chicago:20260308T000000
DTSTAMP:20260422T201156
CREATED:20250805T211116Z
LAST-MODIFIED:20260307T205012Z
UID:10001059-1772841600-1772928000@royalramblerrugby.com
SUMMARY:Royal Rambler Rugby Club 1st XV Friendly at Memphis Blues
DESCRIPTION:Location: Magdovitz Rugby Complex
URL:https://royalramblerrugby.com/event/royal-rambler-rugby-club-1st-xv-friendly-at-memphis-blues/
LOCATION:5400 Riverdale Rd\, Memphis\, TN\, United States
CATEGORIES:Royal Rambler Events,Royal Rambler Matches
GEO:35.028829;-89.782647
END:VEVENT
BEGIN:VEVENT
DTSTART;TZID=America/Chicago:20260305T180000
DTEND;TZID=America/Chicago:20260305T200000
DTSTAMP:20260422T201156
CREATED:20251110T090126Z
LAST-MODIFIED:20260302T132016Z
UID:10001110-1772733600-1772740800@royalramblerrugby.com
SUMMARY:Royal Rambler Rugby Club - Royal Ramblers 15's Practice
DESCRIPTION:Location: Woodson Park\n Spring outdoor rugby practice.\nDynamic warmup starts promptly at 6 so be there early if you want to play touch!  (Arrival Time:  5:40 PM (CST))
URL:https://royalramblerrugby.com/event/royal-rambler-rugby-club-royal-ramblers-15s-practice-32/
LOCATION:4301 Calvert Ave\, 6001 St Louis Ct\, Saint Louis\, MO\, United States
CATEGORIES:Royal Rambler Events
GEO:38.694471;-90.271456
X-APPLE-STRUCTURED-LOCATION;VALUE=URI;X-ADDRESS=4301 Calvert Ave 6001 St Louis Ct Saint Louis MO United States;X-APPLE-RADIUS=500;X-TITLE=6001 St Louis Ct:geo:-90.271456,38.694471
END:VEVENT
BEGIN:VEVENT
DTSTART;TZID=America/Chicago:20260305T174500
DTEND;TZID=America/Chicago:20260305T200000
DTSTAMP:20260422T201156
CREATED:20251201T100054Z
LAST-MODIFIED:20260119T113542Z
UID:10001146-1772732700-1772740800@royalramblerrugby.com
SUMMARY:Royal Rambler Rugby Club - Backup Indoor Practice
DESCRIPTION:Location: Duchesne High School Gym\n Winter Training to get our bodies into shape for Division 2 spring season.\n5:45-6:00: Stretch/Dynamic Warmup on Mezzanine Turf\n6:00-7:00: Rugby training on Gym Floor\n7:00-8:00: Weight training in Weight Room\nBACKUP FOR POOR WEATHER/FIELD CONDITIONS  (Arrival Time:  5:30 PM (Central Time (US & Canada)))
URL:https://royalramblerrugby.com/event/royal-rambler-rugby-club-backup-indoor-practice-6/
LOCATION:2550 Elm St\, 201 St Charles Dr\, Saint Charles\, MO\, United States
CATEGORIES:Royal Rambler Events
GEO:38.862739;-90.528759
X-APPLE-STRUCTURED-LOCATION;VALUE=URI;X-ADDRESS=2550 Elm St 201 St Charles Dr Saint Charles MO United States;X-APPLE-RADIUS=500;X-TITLE=201 St Charles Dr:geo:-90.528759,38.862739
END:VEVENT
BEGIN:VEVENT
DTSTART;TZID=America/Chicago:20260303T180000
DTEND;TZID=America/Chicago:20260303T200000
DTSTAMP:20260422T201156
CREATED:20260302T131041Z
LAST-MODIFIED:20260302T132016Z
UID:10001242-1772560800-1772568000@royalramblerrugby.com
SUMMARY:Royal Rambler Rugby Club - Royal Ramblers Indoor Practice
DESCRIPTION:Location: Duchesne High School Gym\n Backup indoor location for bad weather.\nDynamic warmup starts promptly at 6 so be there early if you want to play touch!  (Arrival Time:  5:40 PM (CST))
URL:https://royalramblerrugby.com/event/royal-rambler-rugby-club-royal-ramblers-indoor-practice/
LOCATION:2550 Elm St\, 201 St Charles Dr\, Saint Charles\, MO\, United States
CATEGORIES:Royal Rambler Events
GEO:38.862739;-90.528759
X-APPLE-STRUCTURED-LOCATION;VALUE=URI;X-ADDRESS=2550 Elm St 201 St Charles Dr Saint Charles MO United States;X-APPLE-RADIUS=500;X-TITLE=201 St Charles Dr:geo:-90.528759,38.862739
END:VEVENT
BEGIN:VEVENT
DTSTART;TZID=America/Chicago:20260303T180000
DTEND;TZID=America/Chicago:20260303T200000
DTSTAMP:20260422T201156
CREATED:20251110T090126Z
LAST-MODIFIED:20260302T132015Z
UID:10001109-1772560800-1772568000@royalramblerrugby.com
SUMMARY:Royal Rambler Rugby Club - Royal Ramblers 15's Practice
DESCRIPTION:Location: Woodson Park\n Spring outdoor rugby practice.\nDynamic warmup starts promptly at 6 so be there early if you want to play touch!  (Arrival Time:  5:40 PM (CST))
URL:https://royalramblerrugby.com/event/royal-rambler-rugby-club-royal-ramblers-15s-practice-31/
LOCATION:4301 Calvert Ave\, 6001 St Louis Ct\, Saint Louis\, MO\, United States
CATEGORIES:Royal Rambler Events
GEO:38.694471;-90.271456
X-APPLE-STRUCTURED-LOCATION;VALUE=URI;X-ADDRESS=4301 Calvert Ave 6001 St Louis Ct Saint Louis MO United States;X-APPLE-RADIUS=500;X-TITLE=6001 St Louis Ct:geo:-90.271456,38.694471
END:VEVENT
BEGIN:VEVENT
DTSTART;TZID=America/Chicago:20260303T174500
DTEND;TZID=America/Chicago:20260303T200000
DTSTAMP:20260422T201156
CREATED:20251201T100040Z
LAST-MODIFIED:20260119T113541Z
UID:10001145-1772559900-1772568000@royalramblerrugby.com
SUMMARY:Royal Rambler Rugby Club - Backup Indoor Practice
DESCRIPTION:Location: Duchesne High School Gym\n Winter Training to get our bodies into shape for Division 2 spring season.\n5:45-6:00: Stretch/Dynamic Warmup on Mezzanine Turf\n6:00-7:00: Rugby training on Gym Floor\n7:00-8:00: Weight training in Weight Room\nBACKUP FOR POOR WEATHER/FIELD CONDITIONS  (Arrival Time:  5:30 PM (Central Time (US & Canada)))
URL:https://royalramblerrugby.com/event/royal-rambler-rugby-club-backup-indoor-practice-5/
LOCATION:2550 Elm St\, 201 St Charles Dr\, Saint Charles\, MO\, United States
CATEGORIES:Royal Rambler Events
GEO:38.862739;-90.528759
X-APPLE-STRUCTURED-LOCATION;VALUE=URI;X-ADDRESS=2550 Elm St 201 St Charles Dr Saint Charles MO United States;X-APPLE-RADIUS=500;X-TITLE=201 St Charles Dr:geo:-90.528759,38.862739
END:VEVENT
BEGIN:VEVENT
DTSTART;TZID=America/Chicago:20260226T180000
DTEND;TZID=America/Chicago:20260226T200000
DTSTAMP:20260422T201156
CREATED:20251110T090113Z
LAST-MODIFIED:20260223T131035Z
UID:10001108-1772128800-1772136000@royalramblerrugby.com
SUMMARY:Royal Rambler Rugby Club - Royal Ramblers 15's Practice
DESCRIPTION:Location: Woodson Park\n Spring outdoor rugby practice.\nDynamic warmup starts promptly at 6 so be there early if you want to play touch!  (Arrival Time:  5:40 PM (CST))
URL:https://royalramblerrugby.com/event/royal-rambler-rugby-club-royal-ramblers-15s-practice-30/
LOCATION:4301 Calvert Ave\, 6001 St Louis Ct\, Saint Louis\, MO\, United States
CATEGORIES:Royal Rambler Events
GEO:38.694471;-90.271456
X-APPLE-STRUCTURED-LOCATION;VALUE=URI;X-ADDRESS=4301 Calvert Ave 6001 St Louis Ct Saint Louis MO United States;X-APPLE-RADIUS=500;X-TITLE=6001 St Louis Ct:geo:-90.271456,38.694471
END:VEVENT
BEGIN:VEVENT
DTSTART;TZID=America/Chicago:20260226T174500
DTEND;TZID=America/Chicago:20260226T200000
DTSTAMP:20260422T201156
CREATED:20251201T100039Z
LAST-MODIFIED:20260119T113539Z
UID:10001144-1772127900-1772136000@royalramblerrugby.com
SUMMARY:Royal Rambler Rugby Club - Backup Indoor Practice
DESCRIPTION:Location: Duchesne High School Gym\n Winter Training to get our bodies into shape for Division 2 spring season.\n5:45-6:00: Stretch/Dynamic Warmup on Mezzanine Turf\n6:00-7:00: Rugby training on Gym Floor\n7:00-8:00: Weight training in Weight Room\nBACKUP FOR POOR WEATHER/FIELD CONDITIONS  (Arrival Time:  5:30 PM (Central Time (US & Canada)))
URL:https://royalramblerrugby.com/event/royal-rambler-rugby-club-backup-indoor-practice-4/
LOCATION:2550 Elm St\, 201 St Charles Dr\, Saint Charles\, MO\, United States
CATEGORIES:Royal Rambler Events
GEO:38.862739;-90.528759
X-APPLE-STRUCTURED-LOCATION;VALUE=URI;X-ADDRESS=2550 Elm St 201 St Charles Dr Saint Charles MO United States;X-APPLE-RADIUS=500;X-TITLE=201 St Charles Dr:geo:-90.528759,38.862739
END:VEVENT
BEGIN:VEVENT
DTSTART;TZID=America/Chicago:20260224T180000
DTEND;TZID=America/Chicago:20260224T200000
DTSTAMP:20260422T201156
CREATED:20251110T090112Z
LAST-MODIFIED:20260223T131034Z
UID:10001106-1771956000-1771963200@royalramblerrugby.com
SUMMARY:Royal Rambler Rugby Club - Royal Ramblers 15's Practice
DESCRIPTION:Location: Woodson Park\n Spring outdoor rugby practice.\nDynamic warmup starts promptly at 6 so be there early if you want to play touch!  (Arrival Time:  5:40 PM (CST))
URL:https://royalramblerrugby.com/event/royal-rambler-rugby-club-royal-ramblers-15s-practice-29/
LOCATION:4301 Calvert Ave\, 6001 St Louis Ct\, Saint Louis\, MO\, United States
CATEGORIES:Royal Rambler Events
GEO:38.694471;-90.271456
X-APPLE-STRUCTURED-LOCATION;VALUE=URI;X-ADDRESS=4301 Calvert Ave 6001 St Louis Ct Saint Louis MO United States;X-APPLE-RADIUS=500;X-TITLE=6001 St Louis Ct:geo:-90.271456,38.694471
END:VEVENT
BEGIN:VEVENT
DTSTART;TZID=America/Chicago:20260224T180000
DTEND;TZID=America/Chicago:20260224T200000
DTSTAMP:20260422T201156
CREATED:20251110T090112Z
LAST-MODIFIED:20251124T094525Z
UID:10001107-1771956000-1771963200@royalramblerrugby.com
SUMMARY:Royal Rambler Rugby Club - Indoor Winter Practice
DESCRIPTION:Location: Duchesne High School Gym\n Backup location if weather/field conditions make Woodson unavailable  (Arrival Time:  5:40 PM (Central Time (US & Canada)))
URL:https://royalramblerrugby.com/event/royal-rambler-rugby-club-indoor-winter-practice-9/
LOCATION:2550 Elm St\, 201 St Charles Dr\, Saint Charles\, MO\, United States
CATEGORIES:Royal Rambler Events
GEO:38.862739;-90.528759
X-APPLE-STRUCTURED-LOCATION;VALUE=URI;X-ADDRESS=2550 Elm St 201 St Charles Dr Saint Charles MO United States;X-APPLE-RADIUS=500;X-TITLE=201 St Charles Dr:geo:-90.528759,38.862739
END:VEVENT
BEGIN:VEVENT
DTSTART;TZID=America/Chicago:20260224T174500
DTEND;TZID=America/Chicago:20260224T200000
DTSTAMP:20260422T201156
CREATED:20251201T100039Z
LAST-MODIFIED:20260119T113538Z
UID:10001143-1771955100-1771963200@royalramblerrugby.com
SUMMARY:Royal Rambler Rugby Club - Backup Indoor Practice
DESCRIPTION:Location: Duchesne High School Gym\n Winter Training to get our bodies into shape for Division 2 spring season.\n5:45-6:00: Stretch/Dynamic Warmup on Mezzanine Turf\n6:00-7:00: Rugby training on Gym Floor\n7:00-8:00: Weight training in Weight Room\nBACKUP FOR POOR WEATHER/FIELD CONDITIONS  (Arrival Time:  5:30 PM (Central Time (US & Canada)))
URL:https://royalramblerrugby.com/event/royal-rambler-rugby-club-backup-indoor-practice-3/
LOCATION:2550 Elm St\, 201 St Charles Dr\, Saint Charles\, MO\, United States
CATEGORIES:Royal Rambler Events
GEO:38.862739;-90.528759
X-APPLE-STRUCTURED-LOCATION;VALUE=URI;X-ADDRESS=2550 Elm St 201 St Charles Dr Saint Charles MO United States;X-APPLE-RADIUS=500;X-TITLE=201 St Charles Dr:geo:-90.528759,38.862739
END:VEVENT
BEGIN:VEVENT
DTSTART;TZID=America/Chicago:20260221T180000
DTEND;TZID=America/Chicago:20260221T220000
DTSTAMP:20260422T201156
CREATED:20251103T084047Z
LAST-MODIFIED:20260216T124516Z
UID:10001095-1771696800-1771711200@royalramblerrugby.com
SUMMARY:Royal Rambler Rugby Club - Royal Rambler Trivia Night
DESCRIPTION:Location: Incarnate Word Academy\n https://royalramblerrugby.com/product/trivia-night/  (Arrival Time:  6:00 PM (Central Time (US & Canada)))
URL:https://royalramblerrugby.com/event/royal-rambler-rugby-club-royal-rambler-trivia-night/
LOCATION:2788 Normandy Dr Saint Louis\, MO\, United States
CATEGORIES:Royal Rambler Events
END:VEVENT
BEGIN:VEVENT
DTSTART;TZID=America/Chicago:20260219T180000
DTEND;TZID=America/Chicago:20260219T200000
DTSTAMP:20260422T201156
CREATED:20251110T090111Z
LAST-MODIFIED:20260216T124516Z
UID:10001105-1771524000-1771531200@royalramblerrugby.com
SUMMARY:Royal Rambler Rugby Club - Royal Ramblers 15's Practice
DESCRIPTION:Location: Woodson Park\n Spring outdoor rugby practice.\nDynamic warmup starts promptly at 6 so be there early if you want to play touch!  (Arrival Time:  5:40 PM (CST))
URL:https://royalramblerrugby.com/event/royal-rambler-rugby-club-royal-ramblers-15s-practice-28/
LOCATION:4301 Calvert Ave\, 6001 St Louis Ct\, Saint Louis\, MO\, United States
CATEGORIES:Royal Rambler Events
GEO:38.694471;-90.271456
X-APPLE-STRUCTURED-LOCATION;VALUE=URI;X-ADDRESS=4301 Calvert Ave 6001 St Louis Ct Saint Louis MO United States;X-APPLE-RADIUS=500;X-TITLE=6001 St Louis Ct:geo:-90.271456,38.694471
END:VEVENT
BEGIN:VEVENT
DTSTART;TZID=America/Chicago:20260219T174500
DTEND;TZID=America/Chicago:20260219T200000
DTSTAMP:20260422T201156
CREATED:20251201T100037Z
LAST-MODIFIED:20260119T113537Z
UID:10001142-1771523100-1771531200@royalramblerrugby.com
SUMMARY:Royal Rambler Rugby Club - Backup Indoor Practice
DESCRIPTION:Location: Duchesne High School Gym\n Winter Training to get our bodies into shape for Division 2 spring season.\n5:45-6:00: Stretch/Dynamic Warmup on Mezzanine Turf\n6:00-7:00: Rugby training on Gym Floor\n7:00-8:00: Weight training in Weight Room\nBACKUP FOR POOR WEATHER/FIELD CONDITIONS  (Arrival Time:  5:30 PM (Central Time (US & Canada)))
URL:https://royalramblerrugby.com/event/royal-rambler-rugby-club-backup-indoor-practice-2/
LOCATION:2550 Elm St\, 201 St Charles Dr\, Saint Charles\, MO\, United States
CATEGORIES:Royal Rambler Events
GEO:38.862739;-90.528759
X-APPLE-STRUCTURED-LOCATION;VALUE=URI;X-ADDRESS=2550 Elm St 201 St Charles Dr Saint Charles MO United States;X-APPLE-RADIUS=500;X-TITLE=201 St Charles Dr:geo:-90.528759,38.862739
END:VEVENT
BEGIN:VEVENT
DTSTART;TZID=America/Chicago:20260217T200000
DTEND;TZID=America/Chicago:20260217T220000
DTSTAMP:20260422T201156
CREATED:20251110T090111Z
LAST-MODIFIED:20251124T094524Z
UID:10001104-1771358400-1771365600@royalramblerrugby.com
SUMMARY:Royal Rambler Rugby Club - Indoor Winter Practice
DESCRIPTION:Location: Duchesne High School Gym\n Backup location if weather/field conditions make Woodson unavailable  (Arrival Time:  7:40 PM (Central Time (US & Canada)))
URL:https://royalramblerrugby.com/event/royal-rambler-rugby-club-indoor-winter-practice-8/
LOCATION:2550 Elm St\, 201 St Charles Dr\, Saint Charles\, MO\, United States
CATEGORIES:Royal Rambler Events
GEO:38.862739;-90.528759
X-APPLE-STRUCTURED-LOCATION;VALUE=URI;X-ADDRESS=2550 Elm St 201 St Charles Dr Saint Charles MO United States;X-APPLE-RADIUS=500;X-TITLE=201 St Charles Dr:geo:-90.528759,38.862739
END:VEVENT
BEGIN:VEVENT
DTSTART;TZID=America/Chicago:20260217T180000
DTEND;TZID=America/Chicago:20260217T200000
DTSTAMP:20260422T201156
CREATED:20251110T090110Z
LAST-MODIFIED:20260216T124516Z
UID:10001103-1771351200-1771358400@royalramblerrugby.com
SUMMARY:Royal Rambler Rugby Club - Royal Ramblers 15's Practice
DESCRIPTION:Location: Woodson Park\n Spring outdoor rugby practice.\nDynamic warmup starts promptly at 6 so be there early if you want to play touch!  (Arrival Time:  5:40 PM (CST))
URL:https://royalramblerrugby.com/event/royal-rambler-rugby-club-royal-ramblers-15s-practice-27/
LOCATION:4301 Calvert Ave\, 6001 St Louis Ct\, Saint Louis\, MO\, United States
CATEGORIES:Royal Rambler Events
GEO:38.694471;-90.271456
X-APPLE-STRUCTURED-LOCATION;VALUE=URI;X-ADDRESS=4301 Calvert Ave 6001 St Louis Ct Saint Louis MO United States;X-APPLE-RADIUS=500;X-TITLE=6001 St Louis Ct:geo:-90.271456,38.694471
END:VEVENT
END:VCALENDAR