BEGIN:VCALENDAR
VERSION:2.0
PRODID:-//Royal Ramblers Rugby Club - ECPv6.15.14//NONSGML v1.0//EN
CALSCALE:GREGORIAN
METHOD:PUBLISH
X-WR-CALNAME:Royal Ramblers Rugby Club
X-ORIGINAL-URL:https://royalramblerrugby.com
X-WR-CALDESC:Events for Royal Ramblers Rugby Club
REFRESH-INTERVAL;VALUE=DURATION:PT1H
X-Robots-Tag:noindex
X-PUBLISHED-TTL:PT1H
BEGIN:VTIMEZONE
TZID:America/Chicago
BEGIN:DAYLIGHT
TZOFFSETFROM:-0600
TZOFFSETTO:-0500
TZNAME:CDT
DTSTART:20250309T080000
END:DAYLIGHT
BEGIN:STANDARD
TZOFFSETFROM:-0500
TZOFFSETTO:-0600
TZNAME:CST
DTSTART:20251102T070000
END:STANDARD
BEGIN:DAYLIGHT
TZOFFSETFROM:-0600
TZOFFSETTO:-0500
TZNAME:CDT
DTSTART:20260308T080000
END:DAYLIGHT
BEGIN:STANDARD
TZOFFSETFROM:-0500
TZOFFSETTO:-0600
TZNAME:CST
DTSTART:20261101T070000
END:STANDARD
BEGIN:DAYLIGHT
TZOFFSETFROM:-0600
TZOFFSETTO:-0500
TZNAME:CDT
DTSTART:20270314T080000
END:DAYLIGHT
BEGIN:STANDARD
TZOFFSETFROM:-0500
TZOFFSETTO:-0600
TZNAME:CST
DTSTART:20271107T070000
END:STANDARD
END:VTIMEZONE
BEGIN:VEVENT
DTSTART;TZID=America/Chicago:20260528T180000
DTEND;TZID=America/Chicago:20260528T200000
DTSTAMP:20260422T235641
CREATED:20260420T144612Z
LAST-MODIFIED:20260420T145530Z
UID:10001258-1779991200-1779998400@royalramblerrugby.com
SUMMARY:Royal Rambler Rugby Club - Royal Ramblers 7's Practice
DESCRIPTION:Location: Woodson Park\n Practice  (Arrival Time:  5:45 PM (Central Time (US & Canada)))
URL:https://royalramblerrugby.com/event/royal-rambler-rugby-club-royal-ramblers-7s-practice-4/
LOCATION:4301 Calvert Ave\, 6001 St Louis Ct\, Saint Louis\, MO\, United States
CATEGORIES:Royal Rambler Events
GEO:38.694471;-90.271456
X-APPLE-STRUCTURED-LOCATION;VALUE=URI;X-ADDRESS=4301 Calvert Ave 6001 St Louis Ct Saint Louis MO United States;X-APPLE-RADIUS=500;X-TITLE=6001 St Louis Ct:geo:-90.271456,38.694471
END:VEVENT
BEGIN:VEVENT
DTSTART;TZID=America/Chicago:20260602T180000
DTEND;TZID=America/Chicago:20260602T200000
DTSTAMP:20260422T235641
CREATED:20260420T144612Z
LAST-MODIFIED:20260420T145531Z
UID:10001259-1780423200-1780430400@royalramblerrugby.com
SUMMARY:Royal Rambler Rugby Club - Royal Ramblers 7's Practice
DESCRIPTION:Location: Woodson Park\n Practice  (Arrival Time:  5:45 PM (Central Time (US & Canada)))
URL:https://royalramblerrugby.com/event/royal-rambler-rugby-club-royal-ramblers-7s-practice-5/
LOCATION:4301 Calvert Ave\, 6001 St Louis Ct\, Saint Louis\, MO\, United States
CATEGORIES:Royal Rambler Events
GEO:38.694471;-90.271456
X-APPLE-STRUCTURED-LOCATION;VALUE=URI;X-ADDRESS=4301 Calvert Ave 6001 St Louis Ct Saint Louis MO United States;X-APPLE-RADIUS=500;X-TITLE=6001 St Louis Ct:geo:-90.271456,38.694471
END:VEVENT
BEGIN:VEVENT
DTSTART;TZID=America/Chicago:20260604T180000
DTEND;TZID=America/Chicago:20260604T200000
DTSTAMP:20260422T235641
CREATED:20260420T144612Z
LAST-MODIFIED:20260420T145531Z
UID:10001260-1780596000-1780603200@royalramblerrugby.com
SUMMARY:Royal Rambler Rugby Club - Royal Ramblers 7's Practice
DESCRIPTION:Location: Woodson Park\n Practice  (Arrival Time:  5:45 PM (Central Time (US & Canada)))
URL:https://royalramblerrugby.com/event/royal-rambler-rugby-club-royal-ramblers-7s-practice-6/
LOCATION:4301 Calvert Ave\, 6001 St Louis Ct\, Saint Louis\, MO\, United States
CATEGORIES:Royal Rambler Events
GEO:38.694471;-90.271456
X-APPLE-STRUCTURED-LOCATION;VALUE=URI;X-ADDRESS=4301 Calvert Ave 6001 St Louis Ct Saint Louis MO United States;X-APPLE-RADIUS=500;X-TITLE=6001 St Louis Ct:geo:-90.271456,38.694471
END:VEVENT
BEGIN:VEVENT
DTSTART;TZID=America/Chicago:20260607T000000
DTEND;TZID=America/Chicago:20260608T000000
DTSTAMP:20260422T235641
CREATED:20260413T144041Z
LAST-MODIFIED:20260420T145532Z
UID:10001251-1780790400-1780876800@royalramblerrugby.com
SUMMARY:Royal Rambler Rugby Club - Royal Rambler Club Day
DESCRIPTION:Location: Royal Rambler Rugby Pitch\, McNair Park\n SAVE THE DATE: This is our annual club day when we can all get together play some rugby together\, enjoy some good food and continue to grow our club.\nWelcome to all players\, past and present\, families and friends!  (Arrival Time: 12:00 AM (Central Time (US & Canada)))
URL:https://royalramblerrugby.com/event/royal-rambler-rugby-club-royal-rambler-club-day/
LOCATION:3200 Droste Rd\, 201 St Charles Dr\, Saint Charles\, MO\, United States
CATEGORIES:Royal Rambler Events
GEO:38.862739;-90.528759
X-APPLE-STRUCTURED-LOCATION;VALUE=URI;X-ADDRESS=3200 Droste Rd 201 St Charles Dr Saint Charles MO United States;X-APPLE-RADIUS=500;X-TITLE=201 St Charles Dr:geo:-90.528759,38.862739
END:VEVENT
BEGIN:VEVENT
DTSTART;TZID=America/Chicago:20260609T180000
DTEND;TZID=America/Chicago:20260609T200000
DTSTAMP:20260422T235641
CREATED:20260420T144613Z
LAST-MODIFIED:20260420T145533Z
UID:10001261-1781028000-1781035200@royalramblerrugby.com
SUMMARY:Royal Rambler Rugby Club - Royal Ramblers 7's Practice
DESCRIPTION:Location: Woodson Park\n Practice  (Arrival Time:  5:45 PM (Central Time (US & Canada)))
URL:https://royalramblerrugby.com/event/royal-rambler-rugby-club-royal-ramblers-7s-practice-7/
LOCATION:4301 Calvert Ave\, 6001 St Louis Ct\, Saint Louis\, MO\, United States
CATEGORIES:Royal Rambler Events
GEO:38.694471;-90.271456
X-APPLE-STRUCTURED-LOCATION;VALUE=URI;X-ADDRESS=4301 Calvert Ave 6001 St Louis Ct Saint Louis MO United States;X-APPLE-RADIUS=500;X-TITLE=6001 St Louis Ct:geo:-90.271456,38.694471
END:VEVENT
BEGIN:VEVENT
DTSTART;TZID=America/Chicago:20260611T180000
DTEND;TZID=America/Chicago:20260611T200000
DTSTAMP:20260422T235641
CREATED:20260420T144614Z
LAST-MODIFIED:20260420T145533Z
UID:10001262-1781200800-1781208000@royalramblerrugby.com
SUMMARY:Royal Rambler Rugby Club - Royal Ramblers 7's Practice
DESCRIPTION:Location: Woodson Park\n Practice  (Arrival Time:  5:45 PM (Central Time (US & Canada)))
URL:https://royalramblerrugby.com/event/royal-rambler-rugby-club-royal-ramblers-7s-practice-8/
LOCATION:4301 Calvert Ave\, 6001 St Louis Ct\, Saint Louis\, MO\, United States
CATEGORIES:Royal Rambler Events
GEO:38.694471;-90.271456
X-APPLE-STRUCTURED-LOCATION;VALUE=URI;X-ADDRESS=4301 Calvert Ave 6001 St Louis Ct Saint Louis MO United States;X-APPLE-RADIUS=500;X-TITLE=6001 St Louis Ct:geo:-90.271456,38.694471
END:VEVENT
BEGIN:VEVENT
DTSTART;TZID=America/Chicago:20260613T090000
DTEND;TZID=America/Chicago:20260613T160000
DTSTAMP:20260422T235641
CREATED:20260420T144614Z
LAST-MODIFIED:20260420T145534Z
UID:10001263-1781341200-1781366400@royalramblerrugby.com
SUMMARY:Royal Rambler Rugby Club - Springfield 7's
DESCRIPTION:Location: Springfield\, MO\n Tournament  (Arrival Time:  8:00 AM (Central Time (US & Canada)))
URL:https://royalramblerrugby.com/event/royal-rambler-rugby-club-springfield-7s-2/
LOCATION:4035 E Sawyer Rd\, Brookline Station\, MO\, United States
CATEGORIES:Royal Rambler Events
GEO:37.163384;-93.420192
END:VEVENT
BEGIN:VEVENT
DTSTART;TZID=America/Chicago:20260616T180000
DTEND;TZID=America/Chicago:20260616T200000
DTSTAMP:20260422T235641
CREATED:20260420T144615Z
LAST-MODIFIED:20260420T145534Z
UID:10001264-1781632800-1781640000@royalramblerrugby.com
SUMMARY:Royal Rambler Rugby Club - Royal Ramblers 7's Practice
DESCRIPTION:Location: Woodson Park\n Practice  (Arrival Time:  5:45 PM (Central Time (US & Canada)))
URL:https://royalramblerrugby.com/event/royal-rambler-rugby-club-royal-ramblers-7s-practice-9/
LOCATION:4301 Calvert Ave\, 6001 St Louis Ct\, Saint Louis\, MO\, United States
CATEGORIES:Royal Rambler Events
GEO:38.694471;-90.271456
X-APPLE-STRUCTURED-LOCATION;VALUE=URI;X-ADDRESS=4301 Calvert Ave 6001 St Louis Ct Saint Louis MO United States;X-APPLE-RADIUS=500;X-TITLE=6001 St Louis Ct:geo:-90.271456,38.694471
END:VEVENT
BEGIN:VEVENT
DTSTART;TZID=America/Chicago:20260618T180000
DTEND;TZID=America/Chicago:20260618T200000
DTSTAMP:20260422T235641
CREATED:20260420T144627Z
LAST-MODIFIED:20260420T145535Z
UID:10001265-1781805600-1781812800@royalramblerrugby.com
SUMMARY:Royal Rambler Rugby Club - Royal Ramblers 7's Practice
DESCRIPTION:Location: Woodson Park\n Practice  (Arrival Time:  5:45 PM (Central Time (US & Canada)))
URL:https://royalramblerrugby.com/event/royal-rambler-rugby-club-royal-ramblers-7s-practice-10/
LOCATION:4301 Calvert Ave\, 6001 St Louis Ct\, Saint Louis\, MO\, United States
CATEGORIES:Royal Rambler Events
GEO:38.694471;-90.271456
X-APPLE-STRUCTURED-LOCATION;VALUE=URI;X-ADDRESS=4301 Calvert Ave 6001 St Louis Ct Saint Louis MO United States;X-APPLE-RADIUS=500;X-TITLE=6001 St Louis Ct:geo:-90.271456,38.694471
END:VEVENT
BEGIN:VEVENT
DTSTART;TZID=America/Chicago:20260623T180000
DTEND;TZID=America/Chicago:20260623T200000
DTSTAMP:20260422T235641
CREATED:20260420T144627Z
LAST-MODIFIED:20260420T145535Z
UID:10001266-1782237600-1782244800@royalramblerrugby.com
SUMMARY:Royal Rambler Rugby Club - Royal Ramblers 7's Practice
DESCRIPTION:Location: Woodson Park\n Practice  (Arrival Time:  5:45 PM (Central Time (US & Canada)))
URL:https://royalramblerrugby.com/event/royal-rambler-rugby-club-royal-ramblers-7s-practice-11/
LOCATION:4301 Calvert Ave\, 6001 St Louis Ct\, Saint Louis\, MO\, United States
CATEGORIES:Royal Rambler Events
GEO:38.694471;-90.271456
X-APPLE-STRUCTURED-LOCATION;VALUE=URI;X-ADDRESS=4301 Calvert Ave 6001 St Louis Ct Saint Louis MO United States;X-APPLE-RADIUS=500;X-TITLE=6001 St Louis Ct:geo:-90.271456,38.694471
END:VEVENT
BEGIN:VEVENT
DTSTART;TZID=America/Chicago:20260625T180000
DTEND;TZID=America/Chicago:20260625T200000
DTSTAMP:20260422T235641
CREATED:20260420T144628Z
LAST-MODIFIED:20260420T145536Z
UID:10001267-1782410400-1782417600@royalramblerrugby.com
SUMMARY:Royal Rambler Rugby Club - Royal Ramblers 7's Practice
DESCRIPTION:Location: Woodson Park\n Practice  (Arrival Time:  5:45 PM (Central Time (US & Canada)))
URL:https://royalramblerrugby.com/event/royal-rambler-rugby-club-royal-ramblers-7s-practice-12/
LOCATION:4301 Calvert Ave\, 6001 St Louis Ct\, Saint Louis\, MO\, United States
CATEGORIES:Royal Rambler Events
GEO:38.694471;-90.271456
X-APPLE-STRUCTURED-LOCATION;VALUE=URI;X-ADDRESS=4301 Calvert Ave 6001 St Louis Ct Saint Louis MO United States;X-APPLE-RADIUS=500;X-TITLE=6001 St Louis Ct:geo:-90.271456,38.694471
END:VEVENT
BEGIN:VEVENT
DTSTART;TZID=America/Chicago:20260627T090000
DTEND;TZID=America/Chicago:20260627T160000
DTSTAMP:20260422T235641
CREATED:20260420T144628Z
LAST-MODIFIED:20260420T145536Z
UID:10001268-1782550800-1782576000@royalramblerrugby.com
SUMMARY:Royal Rambler Rugby Club - Block Party 7's
DESCRIPTION:Location: Iowa City\, IA\n Tournament  (Arrival Time:  8:00 AM (Central Time (US & Canada)))
URL:https://royalramblerrugby.com/event/royal-rambler-rugby-club-block-party-7s/
LOCATION:4400 Soccer Park Rd\, Iowa City\, IA\, United States
CATEGORIES:Royal Rambler Events
GEO:41.634209;-91.49905
END:VEVENT
BEGIN:VEVENT
DTSTART;TZID=America/Chicago:20260630T180000
DTEND;TZID=America/Chicago:20260630T200000
DTSTAMP:20260422T235641
CREATED:20260420T144629Z
LAST-MODIFIED:20260420T145537Z
UID:10001269-1782842400-1782849600@royalramblerrugby.com
SUMMARY:Royal Rambler Rugby Club - Royal Ramblers 7's Practice
DESCRIPTION:Location: Woodson Park\n Practice  (Arrival Time:  5:45 PM (Central Time (US & Canada)))
URL:https://royalramblerrugby.com/event/royal-rambler-rugby-club-royal-ramblers-7s-practice-13/
LOCATION:4301 Calvert Ave\, 6001 St Louis Ct\, Saint Louis\, MO\, United States
CATEGORIES:Royal Rambler Events
GEO:38.694471;-90.271456
X-APPLE-STRUCTURED-LOCATION;VALUE=URI;X-ADDRESS=4301 Calvert Ave 6001 St Louis Ct Saint Louis MO United States;X-APPLE-RADIUS=500;X-TITLE=6001 St Louis Ct:geo:-90.271456,38.694471
END:VEVENT
BEGIN:VEVENT
DTSTART;TZID=America/Chicago:20260702T180000
DTEND;TZID=America/Chicago:20260702T200000
DTSTAMP:20260422T235641
CREATED:20260420T144629Z
LAST-MODIFIED:20260420T145537Z
UID:10001270-1783015200-1783022400@royalramblerrugby.com
SUMMARY:Royal Rambler Rugby Club - Royal Ramblers 7's Practice
DESCRIPTION:Location: Woodson Park\n Practice  (Arrival Time:  5:45 PM (Central Time (US & Canada)))
URL:https://royalramblerrugby.com/event/royal-rambler-rugby-club-royal-ramblers-7s-practice-14/
LOCATION:4301 Calvert Ave\, 6001 St Louis Ct\, Saint Louis\, MO\, United States
CATEGORIES:Royal Rambler Events
GEO:38.694471;-90.271456
X-APPLE-STRUCTURED-LOCATION;VALUE=URI;X-ADDRESS=4301 Calvert Ave 6001 St Louis Ct Saint Louis MO United States;X-APPLE-RADIUS=500;X-TITLE=6001 St Louis Ct:geo:-90.271456,38.694471
END:VEVENT
BEGIN:VEVENT
DTSTART;TZID=America/Chicago:20260707T180000
DTEND;TZID=America/Chicago:20260707T200000
DTSTAMP:20260422T235641
CREATED:20260420T144630Z
LAST-MODIFIED:20260420T145538Z
UID:10001271-1783447200-1783454400@royalramblerrugby.com
SUMMARY:Royal Rambler Rugby Club - Royal Ramblers 7's Practice
DESCRIPTION:Location: Woodson Park\n Practice  (Arrival Time:  5:45 PM (Central Time (US & Canada)))
URL:https://royalramblerrugby.com/event/royal-rambler-rugby-club-royal-ramblers-7s-practice-15/
LOCATION:4301 Calvert Ave\, 6001 St Louis Ct\, Saint Louis\, MO\, United States
CATEGORIES:Royal Rambler Events
GEO:38.694471;-90.271456
X-APPLE-STRUCTURED-LOCATION;VALUE=URI;X-ADDRESS=4301 Calvert Ave 6001 St Louis Ct Saint Louis MO United States;X-APPLE-RADIUS=500;X-TITLE=6001 St Louis Ct:geo:-90.271456,38.694471
END:VEVENT
BEGIN:VEVENT
DTSTART;TZID=America/Chicago:20260709T180000
DTEND;TZID=America/Chicago:20260709T200000
DTSTAMP:20260422T235641
CREATED:20260420T144630Z
LAST-MODIFIED:20260420T145539Z
UID:10001272-1783620000-1783627200@royalramblerrugby.com
SUMMARY:Royal Rambler Rugby Club - Royal Ramblers 7's Practice
DESCRIPTION:Location: Woodson Park\n Practice  (Arrival Time:  5:45 PM (Central Time (US & Canada)))
URL:https://royalramblerrugby.com/event/royal-rambler-rugby-club-royal-ramblers-7s-practice-16/
LOCATION:4301 Calvert Ave\, 6001 St Louis Ct\, Saint Louis\, MO\, United States
CATEGORIES:Royal Rambler Events
GEO:38.694471;-90.271456
X-APPLE-STRUCTURED-LOCATION;VALUE=URI;X-ADDRESS=4301 Calvert Ave 6001 St Louis Ct Saint Louis MO United States;X-APPLE-RADIUS=500;X-TITLE=6001 St Louis Ct:geo:-90.271456,38.694471
END:VEVENT
BEGIN:VEVENT
DTSTART;TZID=America/Chicago:20260711T090000
DTEND;TZID=America/Chicago:20260711T160000
DTSTAMP:20260422T235641
CREATED:20260420T144631Z
LAST-MODIFIED:20260420T145539Z
UID:10001273-1783760400-1783785600@royalramblerrugby.com
SUMMARY:Royal Rambler Rugby Club - Frontier Qualifier 7's
DESCRIPTION:Location: Westwick Rugby Complex\n Tournament  (Arrival Time:  8:00 AM (Central Time (US & Canada)))
URL:https://royalramblerrugby.com/event/royal-rambler-rugby-club-frontier-qualifier-7s/
LOCATION:N 1200 Rd\, Lawrence\, KS\, United States
CATEGORIES:Royal Rambler Events
GEO:39.023294;-95.208909
END:VEVENT
BEGIN:VEVENT
DTSTART;TZID=America/Chicago:20260714T180000
DTEND;TZID=America/Chicago:20260714T200000
DTSTAMP:20260422T235641
CREATED:20260420T144631Z
LAST-MODIFIED:20260420T145540Z
UID:10001274-1784052000-1784059200@royalramblerrugby.com
SUMMARY:Royal Rambler Rugby Club - Royal Ramblers 7's Practice
DESCRIPTION:Location: Woodson Park\n Practice  (Arrival Time:  5:45 PM (Central Time (US & Canada)))
URL:https://royalramblerrugby.com/event/royal-rambler-rugby-club-royal-ramblers-7s-practice-17/
LOCATION:4301 Calvert Ave\, 6001 St Louis Ct\, Saint Louis\, MO\, United States
CATEGORIES:Royal Rambler Events
GEO:38.694471;-90.271456
X-APPLE-STRUCTURED-LOCATION;VALUE=URI;X-ADDRESS=4301 Calvert Ave 6001 St Louis Ct Saint Louis MO United States;X-APPLE-RADIUS=500;X-TITLE=6001 St Louis Ct:geo:-90.271456,38.694471
END:VEVENT
BEGIN:VEVENT
DTSTART;TZID=America/Chicago:20260716T180000
DTEND;TZID=America/Chicago:20260716T200000
DTSTAMP:20260422T235641
CREATED:20260420T144644Z
LAST-MODIFIED:20260420T145540Z
UID:10001275-1784224800-1784232000@royalramblerrugby.com
SUMMARY:Royal Rambler Rugby Club - Royal Ramblers 7's Practice
DESCRIPTION:Location: Woodson Park\n Practice  (Arrival Time:  5:45 PM (Central Time (US & Canada)))
URL:https://royalramblerrugby.com/event/royal-rambler-rugby-club-royal-ramblers-7s-practice-18/
LOCATION:4301 Calvert Ave\, 6001 St Louis Ct\, Saint Louis\, MO\, United States
CATEGORIES:Royal Rambler Events
GEO:38.694471;-90.271456
X-APPLE-STRUCTURED-LOCATION;VALUE=URI;X-ADDRESS=4301 Calvert Ave 6001 St Louis Ct Saint Louis MO United States;X-APPLE-RADIUS=500;X-TITLE=6001 St Louis Ct:geo:-90.271456,38.694471
END:VEVENT
BEGIN:VEVENT
DTSTART;TZID=America/Chicago:20260718T090000
DTEND;TZID=America/Chicago:20260718T160000
DTSTAMP:20260422T235641
CREATED:20260420T144644Z
LAST-MODIFIED:20260420T145540Z
UID:10001276-1784365200-1784390400@royalramblerrugby.com
SUMMARY:Royal Rambler Rugby Club - Show Me Games
DESCRIPTION:Location: Columbia Outlaw Pitch\n Tournament  (Arrival Time:  8:00 AM (Central Time (US & Canada)))
URL:https://royalramblerrugby.com/event/royal-rambler-rugby-club-show-me-games-2/
LOCATION:3350 E Gans Rd\, Columbia\, MO\, United States
CATEGORIES:Royal Rambler Events
GEO:38.894165;-92.274145
END:VEVENT
BEGIN:VEVENT
DTSTART;TZID=America/Chicago:20260721T180000
DTEND;TZID=America/Chicago:20260721T200000
DTSTAMP:20260422T235641
CREATED:20260420T144645Z
LAST-MODIFIED:20260420T145541Z
UID:10001277-1784656800-1784664000@royalramblerrugby.com
SUMMARY:Royal Rambler Rugby Club - Royal Ramblers 7's Practice
DESCRIPTION:Location: Woodson Park\n Practice  (Arrival Time:  5:45 PM (Central Time (US & Canada)))
URL:https://royalramblerrugby.com/event/royal-rambler-rugby-club-royal-ramblers-7s-practice-19/
LOCATION:4301 Calvert Ave\, 6001 St Louis Ct\, Saint Louis\, MO\, United States
CATEGORIES:Royal Rambler Events
GEO:38.694471;-90.271456
X-APPLE-STRUCTURED-LOCATION;VALUE=URI;X-ADDRESS=4301 Calvert Ave 6001 St Louis Ct Saint Louis MO United States;X-APPLE-RADIUS=500;X-TITLE=6001 St Louis Ct:geo:-90.271456,38.694471
END:VEVENT
BEGIN:VEVENT
DTSTART;TZID=America/Chicago:20260723T180000
DTEND;TZID=America/Chicago:20260723T200000
DTSTAMP:20260422T235641
CREATED:20260420T144645Z
LAST-MODIFIED:20260420T145542Z
UID:10001278-1784829600-1784836800@royalramblerrugby.com
SUMMARY:Royal Rambler Rugby Club - Royal Ramblers 7's Practice
DESCRIPTION:Location: Woodson Park\n Practice  (Arrival Time:  5:45 PM (Central Time (US & Canada)))
URL:https://royalramblerrugby.com/event/royal-rambler-rugby-club-royal-ramblers-7s-practice-20/
LOCATION:4301 Calvert Ave\, 6001 St Louis Ct\, Saint Louis\, MO\, United States
CATEGORIES:Royal Rambler Events
GEO:38.694471;-90.271456
X-APPLE-STRUCTURED-LOCATION;VALUE=URI;X-ADDRESS=4301 Calvert Ave 6001 St Louis Ct Saint Louis MO United States;X-APPLE-RADIUS=500;X-TITLE=6001 St Louis Ct:geo:-90.271456,38.694471
END:VEVENT
BEGIN:VEVENT
DTSTART;TZID=America/Chicago:20260728T180000
DTEND;TZID=America/Chicago:20260728T200000
DTSTAMP:20260422T235641
CREATED:20260420T144646Z
LAST-MODIFIED:20260420T145544Z
UID:10001279-1785261600-1785268800@royalramblerrugby.com
SUMMARY:Royal Rambler Rugby Club - Royal Ramblers 7's Practice
DESCRIPTION:Location: Woodson Park\n Practice  (Arrival Time:  5:45 PM (Central Time (US & Canada)))
URL:https://royalramblerrugby.com/event/royal-rambler-rugby-club-royal-ramblers-7s-practice-21/
LOCATION:4301 Calvert Ave\, 6001 St Louis Ct\, Saint Louis\, MO\, United States
CATEGORIES:Royal Rambler Events
GEO:38.694471;-90.271456
X-APPLE-STRUCTURED-LOCATION;VALUE=URI;X-ADDRESS=4301 Calvert Ave 6001 St Louis Ct Saint Louis MO United States;X-APPLE-RADIUS=500;X-TITLE=6001 St Louis Ct:geo:-90.271456,38.694471
END:VEVENT
BEGIN:VEVENT
DTSTART;TZID=America/Chicago:20260730T180000
DTEND;TZID=America/Chicago:20260730T200000
DTSTAMP:20260422T235641
CREATED:20260420T144646Z
LAST-MODIFIED:20260420T145544Z
UID:10001280-1785434400-1785441600@royalramblerrugby.com
SUMMARY:Royal Rambler Rugby Club - Royal Ramblers 7's Practice
DESCRIPTION:Location: Woodson Park\n Practice  (Arrival Time:  5:45 PM (Central Time (US & Canada)))
URL:https://royalramblerrugby.com/event/royal-rambler-rugby-club-royal-ramblers-7s-practice-22/
LOCATION:4301 Calvert Ave\, 6001 St Louis Ct\, Saint Louis\, MO\, United States
CATEGORIES:Royal Rambler Events
GEO:38.694471;-90.271456
X-APPLE-STRUCTURED-LOCATION;VALUE=URI;X-ADDRESS=4301 Calvert Ave 6001 St Louis Ct Saint Louis MO United States;X-APPLE-RADIUS=500;X-TITLE=6001 St Louis Ct:geo:-90.271456,38.694471
END:VEVENT
END:VCALENDAR