BEGIN:VCALENDAR
VERSION:2.0
PRODID:-//Royal Ramblers Rugby Club - ECPv6.15.14//NONSGML v1.0//EN
CALSCALE:GREGORIAN
METHOD:PUBLISH
X-WR-CALNAME:Royal Ramblers Rugby Club
X-ORIGINAL-URL:https://royalramblerrugby.com
X-WR-CALDESC:Events for Royal Ramblers Rugby Club
REFRESH-INTERVAL;VALUE=DURATION:PT1H
X-Robots-Tag:noindex
X-PUBLISHED-TTL:PT1H
BEGIN:VTIMEZONE
TZID:America/Chicago
BEGIN:DAYLIGHT
TZOFFSETFROM:-0600
TZOFFSETTO:-0500
TZNAME:CDT
DTSTART:20220313T080000
END:DAYLIGHT
BEGIN:STANDARD
TZOFFSETFROM:-0500
TZOFFSETTO:-0600
TZNAME:CST
DTSTART:20221106T070000
END:STANDARD
BEGIN:DAYLIGHT
TZOFFSETFROM:-0600
TZOFFSETTO:-0500
TZNAME:CDT
DTSTART:20230312T080000
END:DAYLIGHT
BEGIN:STANDARD
TZOFFSETFROM:-0500
TZOFFSETTO:-0600
TZNAME:CST
DTSTART:20231105T070000
END:STANDARD
BEGIN:DAYLIGHT
TZOFFSETFROM:-0600
TZOFFSETTO:-0500
TZNAME:CDT
DTSTART:20240310T080000
END:DAYLIGHT
BEGIN:STANDARD
TZOFFSETFROM:-0500
TZOFFSETTO:-0600
TZNAME:CST
DTSTART:20241103T070000
END:STANDARD
END:VTIMEZONE
BEGIN:VEVENT
DTSTART;TZID=America/Chicago:20231024T184500
DTEND;TZID=America/Chicago:20231024T210000
DTSTAMP:20260422T201919
CREATED:20230619T043114Z
LAST-MODIFIED:20231020T155542Z
UID:10000361-1698173100-1698181200@royalramblerrugby.com
SUMMARY:St Louis Royal Rambler Rugby Club - Royal Rambler Rugby Practice
DESCRIPTION:Location: Woodson Park\n   (Arrival Time:  6:30 PM (Central Time (US & Canada)))
URL:https://royalramblerrugby.com/event/st-louis-royal-rambler-rugby-club-royal-rambler-rugby-practice-47/
LOCATION:4301 Calvert Ave\, St Louis\, MO 63134
CATEGORIES:Royal Rambler Events
END:VEVENT
BEGIN:VEVENT
DTSTART;TZID=America/Chicago:20231019T184500
DTEND;TZID=America/Chicago:20231019T210000
DTSTAMP:20260422T201919
CREATED:20230619T043113Z
LAST-MODIFIED:20231013T154511Z
UID:10000360-1697741100-1697749200@royalramblerrugby.com
SUMMARY:St Louis Royal Rambler Rugby Club - Royal Rambler Rugby Practice
DESCRIPTION:Location: Woodson Park\n   (Arrival Time:  6:30 PM (Central Time (US & Canada)))
URL:https://royalramblerrugby.com/event/st-louis-royal-rambler-rugby-club-royal-rambler-rugby-practice-46/
LOCATION:4301 Calvert Ave\, St Louis\, MO 63134
CATEGORIES:Royal Rambler Events
END:VEVENT
BEGIN:VEVENT
DTSTART;TZID=America/Chicago:20231017T184500
DTEND;TZID=America/Chicago:20231017T210000
DTSTAMP:20260422T201919
CREATED:20230619T043113Z
LAST-MODIFIED:20231013T154511Z
UID:10000358-1697568300-1697576400@royalramblerrugby.com
SUMMARY:St Louis Royal Rambler Rugby Club - Royal Rambler Rugby Practice
DESCRIPTION:Location: Woodson Park\n   (Arrival Time:  6:30 PM (Central Time (US & Canada)))
URL:https://royalramblerrugby.com/event/st-louis-royal-rambler-rugby-club-royal-rambler-rugby-practice-45/
LOCATION:4301 Calvert Ave\, St Louis\, MO 63134
CATEGORIES:Royal Rambler Events
END:VEVENT
BEGIN:VEVENT
DTSTART;TZID=America/Chicago:20231012T184500
DTEND;TZID=America/Chicago:20231012T210000
DTSTAMP:20260422T201919
CREATED:20230619T043113Z
LAST-MODIFIED:20231006T152519Z
UID:10000359-1697136300-1697144400@royalramblerrugby.com
SUMMARY:St Louis Royal Rambler Rugby Club - Royal Rambler Rugby Practice
DESCRIPTION:Location: Woodson Park\n   (Arrival Time:  6:30 PM (Central Time (US & Canada)))
URL:https://royalramblerrugby.com/event/st-louis-royal-rambler-rugby-club-royal-rambler-rugby-practice-44/
LOCATION:4301 Calvert Ave\, St Louis\, MO 63134
CATEGORIES:Royal Rambler Events
END:VEVENT
BEGIN:VEVENT
DTSTART;TZID=America/Chicago:20231010T184500
DTEND;TZID=America/Chicago:20231010T210000
DTSTAMP:20260422T201919
CREATED:20230619T043113Z
LAST-MODIFIED:20231006T152519Z
UID:10000354-1696963500-1696971600@royalramblerrugby.com
SUMMARY:St Louis Royal Rambler Rugby Club - Royal Rambler Rugby Practice
DESCRIPTION:Location: Woodson Park\n   (Arrival Time:  6:30 PM (Central Time (US & Canada)))
URL:https://royalramblerrugby.com/event/st-louis-royal-rambler-rugby-club-royal-rambler-rugby-practice-43/
LOCATION:4301 Calvert Ave\, St Louis\, MO 63134
CATEGORIES:Royal Rambler Events
END:VEVENT
BEGIN:VEVENT
DTSTART;TZID=America/Chicago:20231005T184500
DTEND;TZID=America/Chicago:20231005T210000
DTSTAMP:20260422T201919
CREATED:20230619T043112Z
LAST-MODIFIED:20230929T151511Z
UID:10000356-1696531500-1696539600@royalramblerrugby.com
SUMMARY:St Louis Royal Rambler Rugby Club - Royal Rambler Rugby Practice
DESCRIPTION:Location: Woodson Park\n   (Arrival Time:  6:30 PM (Central Time (US & Canada)))
URL:https://royalramblerrugby.com/event/st-louis-royal-rambler-rugby-club-royal-rambler-rugby-practice-42/
LOCATION:4301 Calvert Ave\, St Louis\, MO 63134
CATEGORIES:Royal Rambler Events
END:VEVENT
BEGIN:VEVENT
DTSTART;TZID=America/Chicago:20231003T184500
DTEND;TZID=America/Chicago:20231003T210000
DTSTAMP:20260422T201919
CREATED:20230619T043112Z
LAST-MODIFIED:20230929T151511Z
UID:10000357-1696358700-1696366800@royalramblerrugby.com
SUMMARY:St Louis Royal Rambler Rugby Club - Royal Rambler Rugby Practice
DESCRIPTION:Location: Woodson Park\n   (Arrival Time:  6:30 PM (Central Time (US & Canada)))
URL:https://royalramblerrugby.com/event/st-louis-royal-rambler-rugby-club-royal-rambler-rugby-practice-41/
LOCATION:4301 Calvert Ave\, St Louis\, MO 63134
CATEGORIES:Royal Rambler Events
END:VEVENT
BEGIN:VEVENT
DTSTART;TZID=America/Chicago:20230928T184500
DTEND;TZID=America/Chicago:20230928T210000
DTSTAMP:20260422T201919
CREATED:20230619T043100Z
LAST-MODIFIED:20230922T145032Z
UID:10000355-1695926700-1695934800@royalramblerrugby.com
SUMMARY:St Louis Royal Rambler Rugby Club - Royal Rambler Rugby Practice
DESCRIPTION:Location: Woodson Park\n   (Arrival Time:  6:30 PM (Central Time (US & Canada)))
URL:https://royalramblerrugby.com/event/st-louis-royal-rambler-rugby-club-royal-rambler-rugby-practice-40/
LOCATION:4301 Calvert Ave\, St Louis\, MO 63134
CATEGORIES:Royal Rambler Events
END:VEVENT
BEGIN:VEVENT
DTSTART;TZID=America/Chicago:20230926T184500
DTEND;TZID=America/Chicago:20230926T210000
DTSTAMP:20260422T201919
CREATED:20230619T043059Z
LAST-MODIFIED:20230922T145032Z
UID:10000353-1695753900-1695762000@royalramblerrugby.com
SUMMARY:St Louis Royal Rambler Rugby Club - Royal Rambler Rugby Practice
DESCRIPTION:Location: Woodson Park\n   (Arrival Time:  6:30 PM (Central Time (US & Canada)))
URL:https://royalramblerrugby.com/event/st-louis-royal-rambler-rugby-club-royal-rambler-rugby-practice-39/
LOCATION:4301 Calvert Ave\, St Louis\, MO 63134
CATEGORIES:Royal Rambler Events
END:VEVENT
BEGIN:VEVENT
DTSTART;TZID=America/Chicago:20230921T184500
DTEND;TZID=America/Chicago:20230921T210000
DTSTAMP:20260422T201919
CREATED:20230619T043059Z
LAST-MODIFIED:20230915T143530Z
UID:10000352-1695321900-1695330000@royalramblerrugby.com
SUMMARY:St Louis Royal Rambler Rugby Club - Royal Rambler Rugby Practice
DESCRIPTION:Location: Woodson Park\n   (Arrival Time:  6:30 PM (Central Time (US & Canada)))
URL:https://royalramblerrugby.com/event/st-louis-royal-rambler-rugby-club-royal-rambler-rugby-practice-38/
LOCATION:4301 Calvert Ave\, St Louis\, MO 63134
CATEGORIES:Royal Rambler Events
END:VEVENT
BEGIN:VEVENT
DTSTART;TZID=America/Chicago:20230919T184500
DTEND;TZID=America/Chicago:20230919T210000
DTSTAMP:20260422T201919
CREATED:20230619T043059Z
LAST-MODIFIED:20230915T143529Z
UID:10000351-1695149100-1695157200@royalramblerrugby.com
SUMMARY:St Louis Royal Rambler Rugby Club - Royal Rambler Rugby Practice
DESCRIPTION:Location: Woodson Park\n   (Arrival Time:  6:30 PM (Central Time (US & Canada)))
URL:https://royalramblerrugby.com/event/st-louis-royal-rambler-rugby-club-royal-rambler-rugby-practice-37/
LOCATION:4301 Calvert Ave\, St Louis\, MO 63134
CATEGORIES:Royal Rambler Events
END:VEVENT
BEGIN:VEVENT
DTSTART;TZID=America/Chicago:20230914T184500
DTEND;TZID=America/Chicago:20230914T210000
DTSTAMP:20260422T201919
CREATED:20230619T043059Z
LAST-MODIFIED:20230908T142026Z
UID:10000350-1694717100-1694725200@royalramblerrugby.com
SUMMARY:St Louis Royal Rambler Rugby Club - Royal Rambler Rugby Practice
DESCRIPTION:Location: Woodson Park\n   (Arrival Time:  6:30 PM (Central Time (US & Canada)))
URL:https://royalramblerrugby.com/event/st-louis-royal-rambler-rugby-club-royal-rambler-rugby-practice-36/
LOCATION:4301 Calvert Ave\, St Louis\, MO 63134
CATEGORIES:Royal Rambler Events
END:VEVENT
BEGIN:VEVENT
DTSTART;TZID=America/Chicago:20230912T184500
DTEND;TZID=America/Chicago:20230912T210000
DTSTAMP:20260422T201919
CREATED:20230619T043058Z
LAST-MODIFIED:20230908T142026Z
UID:10000349-1694544300-1694552400@royalramblerrugby.com
SUMMARY:St Louis Royal Rambler Rugby Club - Royal Rambler Rugby Practice
DESCRIPTION:Location: Woodson Park\n   (Arrival Time:  6:30 PM (Central Time (US & Canada)))
URL:https://royalramblerrugby.com/event/st-louis-royal-rambler-rugby-club-royal-rambler-rugby-practice-35/
LOCATION:4301 Calvert Ave\, St Louis\, MO 63134
CATEGORIES:Royal Rambler Events
END:VEVENT
BEGIN:VEVENT
DTSTART;TZID=America/Chicago:20230907T184500
DTEND;TZID=America/Chicago:20230907T210000
DTSTAMP:20260422T201919
CREATED:20230619T043058Z
LAST-MODIFIED:20230901T141024Z
UID:10000347-1694112300-1694120400@royalramblerrugby.com
SUMMARY:St Louis Royal Rambler Rugby Club - Royal Rambler Rugby Practice
DESCRIPTION:Location: Woodson Park\n   (Arrival Time:  6:30 PM (Central Time (US & Canada)))
URL:https://royalramblerrugby.com/event/st-louis-royal-rambler-rugby-club-royal-rambler-rugby-practice-34/
LOCATION:4301 Calvert Ave\, St Louis\, MO 63134
CATEGORIES:Royal Rambler Events
END:VEVENT
BEGIN:VEVENT
DTSTART;TZID=America/Chicago:20230905T184500
DTEND;TZID=America/Chicago:20230905T210000
DTSTAMP:20260422T201919
CREATED:20230619T043058Z
LAST-MODIFIED:20230901T141023Z
UID:10000256-1693939500-1693947600@royalramblerrugby.com
SUMMARY:St Louis Royal Rambler Rugby Club - Royal Rambler Rugby Practice
DESCRIPTION:Location: Woodson Park\n   (Arrival Time:  6:30 PM (Central Time (US & Canada)))
URL:https://royalramblerrugby.com/event/st-louis-royal-rambler-rugby-club-royal-rambler-rugby-practice-33/
LOCATION:4301 Calvert Ave\, St Louis\, MO 63134
CATEGORIES:Royal Rambler Events
END:VEVENT
BEGIN:VEVENT
DTSTART;TZID=America/Chicago:20230831T200000
DTEND;TZID=America/Chicago:20230831T210000
DTSTAMP:20260422T201919
CREATED:20230825T134540Z
LAST-MODIFIED:20230825T135528Z
UID:10000436-1693512000-1693515600@royalramblerrugby.com
SUMMARY:St Louis Royal Rambler Rugby Club - Annual General Meeting
DESCRIPTION:Location: Woodson Park\n Beer & Pizza provided. All welcome to come out for update on club and voice their opinions.  (Arrival Time:  8:00 PM (Central Time (US & Canada)))
URL:https://royalramblerrugby.com/event/st-louis-royal-rambler-rugby-club-annual-general-meeting/
LOCATION:4301 Calvert Ave\, St Louis\, MO 63134
CATEGORIES:Royal Rambler Events
END:VEVENT
BEGIN:VEVENT
DTSTART;TZID=America/Chicago:20230831T184500
DTEND;TZID=America/Chicago:20230831T210000
DTSTAMP:20260422T201919
CREATED:20230619T043058Z
LAST-MODIFIED:20230825T135528Z
UID:10000254-1693507500-1693515600@royalramblerrugby.com
SUMMARY:St Louis Royal Rambler Rugby Club - Royal Rambler Rugby Practice
DESCRIPTION:Location: Woodson Park\n   (Arrival Time:  6:30 PM (Central Time (US & Canada)))
URL:https://royalramblerrugby.com/event/st-louis-royal-rambler-rugby-club-royal-rambler-rugby-practice-32/
LOCATION:4301 Calvert Ave\, St Louis\, MO 63134
CATEGORIES:Royal Rambler Events
END:VEVENT
BEGIN:VEVENT
DTSTART;TZID=America/Chicago:20230829T184500
DTEND;TZID=America/Chicago:20230829T210000
DTSTAMP:20260422T201919
CREATED:20230619T043045Z
LAST-MODIFIED:20230825T135528Z
UID:10000252-1693334700-1693342800@royalramblerrugby.com
SUMMARY:St Louis Royal Rambler Rugby Club - Royal Rambler Rugby Practice
DESCRIPTION:Location: Woodson Park\n   (Arrival Time:  6:30 PM (Central Time (US & Canada)))
URL:https://royalramblerrugby.com/event/st-louis-royal-rambler-rugby-club-royal-rambler-rugby-practice-31/
LOCATION:4301 Calvert Ave\, St Louis\, MO 63134
CATEGORIES:Royal Rambler Events
END:VEVENT
BEGIN:VEVENT
DTSTART;TZID=America/Chicago:20230824T184500
DTEND;TZID=America/Chicago:20230824T210000
DTSTAMP:20260422T201919
CREATED:20230619T043045Z
LAST-MODIFIED:20230818T133527Z
UID:10000250-1692902700-1692910800@royalramblerrugby.com
SUMMARY:St Louis Royal Rambler Rugby Club - Royal Rambler Rugby Practice
DESCRIPTION:Location: Woodson Park\n   (Arrival Time:  6:30 PM (Central Time (US & Canada)))
URL:https://royalramblerrugby.com/event/st-louis-royal-rambler-rugby-club-royal-rambler-rugby-practice-30/
LOCATION:4301 Calvert Ave\, St Louis\, MO 63134
CATEGORIES:Royal Rambler Events
END:VEVENT
BEGIN:VEVENT
DTSTART;TZID=America/Chicago:20230822T184500
DTEND;TZID=America/Chicago:20230822T210000
DTSTAMP:20260422T201919
CREATED:20230619T043044Z
LAST-MODIFIED:20230818T133527Z
UID:10000248-1692729900-1692738000@royalramblerrugby.com
SUMMARY:St Louis Royal Rambler Rugby Club - Royal Rambler Rugby Practice
DESCRIPTION:Location: Woodson Park\n   (Arrival Time:  6:30 PM (Central Time (US & Canada)))
URL:https://royalramblerrugby.com/event/st-louis-royal-rambler-rugby-club-royal-rambler-rugby-practice-29/
LOCATION:4301 Calvert Ave\, St Louis\, MO 63134
CATEGORIES:Royal Rambler Events
END:VEVENT
BEGIN:VEVENT
DTSTART;TZID=America/Chicago:20230727T180000
DTEND;TZID=America/Chicago:20230727T200000
DTSTAMP:20260422T201919
CREATED:20230508T014634Z
LAST-MODIFIED:20230724T062533Z
UID:10000337-1690480800-1690488000@royalramblerrugby.com
SUMMARY:St Louis Royal Rambler Rugby Club - Royal Rambler 7s Practice
DESCRIPTION:Location: Woodson Park
URL:https://royalramblerrugby.com/event/st-louis-royal-rambler-rugby-club-royal-rambler-7s-practice-17/
LOCATION:4301 Calvert Ave\, St Louis\, MO 63134
CATEGORIES:Royal Rambler Events
END:VEVENT
BEGIN:VEVENT
DTSTART;TZID=America/Chicago:20230725T180000
DTEND;TZID=America/Chicago:20230725T200000
DTSTAMP:20260422T201919
CREATED:20230508T014632Z
LAST-MODIFIED:20230724T062532Z
UID:10000336-1690308000-1690315200@royalramblerrugby.com
SUMMARY:St Louis Royal Rambler Rugby Club - Royal Rambler 7s Practice
DESCRIPTION:Location: Woodson Park
URL:https://royalramblerrugby.com/event/st-louis-royal-rambler-rugby-club-royal-rambler-7s-practice-16/
LOCATION:4301 Calvert Ave\, St Louis\, MO 63134
CATEGORIES:Royal Rambler Events
END:VEVENT
BEGIN:VEVENT
DTSTART;TZID=America/Chicago:20230720T180000
DTEND;TZID=America/Chicago:20230720T200000
DTSTAMP:20260422T201919
CREATED:20230508T014628Z
LAST-MODIFIED:20230710T054518Z
UID:10000334-1689876000-1689883200@royalramblerrugby.com
SUMMARY:St Louis Royal Rambler Rugby Club - Royal Rambler 7s Practice
DESCRIPTION:Location: Woodson Park\n   (Arrival Time:  6:00 PM (Central Time (US & Canada)))
URL:https://royalramblerrugby.com/event/st-louis-royal-rambler-rugby-club-royal-rambler-7s-practice-15/
LOCATION:4301 Calvert Ave\, St Louis\, MO 63134
CATEGORIES:Royal Rambler Events
END:VEVENT
BEGIN:VEVENT
DTSTART;TZID=America/Chicago:20230718T180000
DTEND;TZID=America/Chicago:20230718T200000
DTSTAMP:20260422T201919
CREATED:20230508T014626Z
LAST-MODIFIED:20230717T060042Z
UID:10000333-1689703200-1689710400@royalramblerrugby.com
SUMMARY:St Louis Royal Rambler Rugby Club - Royal Rambler 7s Practice
DESCRIPTION:Location: Woodson Park\n   (Arrival Time:  6:00 PM (Central Time (US & Canada)))
URL:https://royalramblerrugby.com/event/st-louis-royal-rambler-rugby-club-royal-rambler-7s-practice-14/
LOCATION:4301 Calvert Ave\, St Louis\, MO 63134
CATEGORIES:Royal Rambler Events
END:VEVENT
BEGIN:VEVENT
DTSTART;TZID=America/Chicago:20230713T180000
DTEND;TZID=America/Chicago:20230713T200000
DTSTAMP:20260422T201919
CREATED:20230508T014625Z
LAST-MODIFIED:20230710T054518Z
UID:10000332-1689271200-1689278400@royalramblerrugby.com
SUMMARY:St Louis Royal Rambler Rugby Club - Royal Rambler 7s Practice
DESCRIPTION:Location: Woodson Park\n   (Arrival Time:  6:00 PM (Central Time (US & Canada)))
URL:https://royalramblerrugby.com/event/st-louis-royal-rambler-rugby-club-royal-rambler-7s-practice-13/
LOCATION:4301 Calvert Ave\, St Louis\, MO 63134
CATEGORIES:Royal Rambler Events
END:VEVENT
BEGIN:VEVENT
DTSTART;TZID=America/Chicago:20230711T180000
DTEND;TZID=America/Chicago:20230711T200000
DTSTAMP:20260422T201919
CREATED:20230508T014623Z
LAST-MODIFIED:20230710T054518Z
UID:10000331-1689098400-1689105600@royalramblerrugby.com
SUMMARY:St Louis Royal Rambler Rugby Club - Royal Rambler 7s Practice
DESCRIPTION:Location: Woodson Park\n   (Arrival Time:  6:00 PM (Central Time (US & Canada)))
URL:https://royalramblerrugby.com/event/st-louis-royal-rambler-rugby-club-royal-rambler-7s-practice-12/
LOCATION:4301 Calvert Ave\, St Louis\, MO 63134
CATEGORIES:Royal Rambler Events
END:VEVENT
BEGIN:VEVENT
DTSTART;TZID=America/Chicago:20230706T180000
DTEND;TZID=America/Chicago:20230706T200000
DTSTAMP:20260422T201919
CREATED:20230508T014608Z
LAST-MODIFIED:20230703T053015Z
UID:10000330-1688666400-1688673600@royalramblerrugby.com
SUMMARY:St Louis Royal Rambler Rugby Club - Royal Rambler 7s Practice
DESCRIPTION:Location: Woodson Park\n   (Arrival Time:  6:00 PM (Central Time (US & Canada)))
URL:https://royalramblerrugby.com/event/st-louis-royal-rambler-rugby-club-royal-rambler-7s-practice-11/
LOCATION:4301 Calvert Ave\, St Louis\, MO 63134
CATEGORIES:Royal Rambler Events
END:VEVENT
BEGIN:VEVENT
DTSTART;TZID=America/Chicago:20230704T180000
DTEND;TZID=America/Chicago:20230704T200000
DTSTAMP:20260422T201919
CREATED:20230508T014606Z
LAST-MODIFIED:20230703T053015Z
UID:10000327-1688493600-1688500800@royalramblerrugby.com
SUMMARY:St Louis Royal Rambler Rugby Club - Royal Rambler 7s Practice
DESCRIPTION:Location: Woodson Park
URL:https://royalramblerrugby.com/event/st-louis-royal-rambler-rugby-club-royal-rambler-7s-practice-10/
LOCATION:4301 Calvert Ave\, St Louis\, MO 63134
CATEGORIES:Royal Rambler Events
END:VEVENT
BEGIN:VEVENT
DTSTART;TZID=America/Chicago:20230629T180000
DTEND;TZID=America/Chicago:20230629T200000
DTSTAMP:20260422T201919
CREATED:20230508T014604Z
LAST-MODIFIED:20230626T051514Z
UID:10000329-1688061600-1688068800@royalramblerrugby.com
SUMMARY:St Louis Royal Rambler Rugby Club - Royal Rambler 7s Practice
DESCRIPTION:Location: Woodson Park\n   (Arrival Time:  6:00 PM (Central Time (US & Canada)))
URL:https://royalramblerrugby.com/event/st-louis-royal-rambler-rugby-club-royal-rambler-7s-practice-9/
LOCATION:4301 Calvert Ave\, St Louis\, MO 63134
CATEGORIES:Royal Rambler Events
END:VEVENT
BEGIN:VEVENT
DTSTART;TZID=America/Chicago:20230627T180000
DTEND;TZID=America/Chicago:20230627T200000
DTSTAMP:20260422T201919
CREATED:20230508T014603Z
LAST-MODIFIED:20230626T051514Z
UID:10000328-1687888800-1687896000@royalramblerrugby.com
SUMMARY:St Louis Royal Rambler Rugby Club - Royal Rambler 7s Practice
DESCRIPTION:Location: Woodson Park\n   (Arrival Time:  6:00 PM (Central Time (US & Canada)))
URL:https://royalramblerrugby.com/event/st-louis-royal-rambler-rugby-club-royal-rambler-7s-practice-8/
LOCATION:4301 Calvert Ave\, St Louis\, MO 63134
CATEGORIES:Royal Rambler Events
END:VEVENT
END:VCALENDAR